BEGIN:VCALENDAR
VERSION:2.0
PRODID:LFV Website-Kit
METHOD:PUBLISH
BEGIN:VEVENT
UID:lfv-bd27977d-f43d-49c0-85f6-12f66a9cb737
LOCATION:
SUMMARY:150 Jahre Feuerwehr Marktschellenberg
DESCRIPTION:Termin Link: http://www.kfv-bgl.de/termine/150-jahre-feuerwehr-marktschellenberg/
URL:http://www.kfv-bgl.de/termine/150-jahre-feuerwehr-marktschellenberg/
CLASS:PRIVATE
DTSTART;TZID=Europe/Berlin:20240706T120000
DTEND;TZID=Europe/Berlin:20240706T235900
DTSTAMP:20260421T165805Z
END:VEVENT
END:VCALENDAR